BEGIN:VCALENDAR
VERSION:2.0
PRODID:-//ChamberMaster//Event Calendar 2.0//EN
METHOD:PUBLISH
X-PUBLISHED-TTL:P3D
REFRESH-INTERVAL:P3D
CALSCALE:GREGORIAN
BEGIN:VEVENT
DTSTART:20260516T170000Z
DTEND:20260516T180000Z
X-MICROSOFT-CDO-ALLDAYEVENT:FALSE
SUMMARY:RIBBON CUTTING: PARAISO AT NORDLING
DESCRIPTION:
X-ALT-DESC;FMTTYPE=text/html:
LOCATION:Paraiso at Nordling 7319 Nordling Road Houston\, TX 77076
UID:e.129.36114
SEQUENCE:3
DTSTAMP:20260420T103741Z
URL:https://members.houstonnwchamber.org/events/details/ribbon-cutting-paraiso-at-nordling-36114
END:VEVENT

END:VCALENDAR
