BEGIN:VCALENDAR
VERSION:2.0
PRODID:-//ChamberMaster//Event Calendar 2.0//EN
METHOD:PUBLISH
X-PUBLISHED-TTL:P3D
REFRESH-INTERVAL:P3D
CALSCALE:GREGORIAN
BEGIN:VEVENT
DTSTART:20260604T210000Z
DTEND:20260604T220000Z
X-MICROSOFT-CDO-ALLDAYEVENT:FALSE
SUMMARY:RIBBON CUTTING: COURTYARD BY MARRIOTT NW 290 CORRIDOR
DESCRIPTION:
X-ALT-DESC;FMTTYPE=text/html:
LOCATION:Courtyard by Marriott NW 290 Corridor 6708 Gessner Road Houston\, TX 77040
UID:e.129.36106
SEQUENCE:3
DTSTAMP:20260420T103741Z
URL:https://members.houstonnwchamber.org/events/details/ribbon-cutting-courtyard-by-marriott-nw-290-corridor-36106
END:VEVENT

END:VCALENDAR
