BEGIN:VCALENDAR
VERSION:2.0
PRODID:-//ChamberMaster//Event Calendar 2.0//EN
METHOD:PUBLISH
X-PUBLISHED-TTL:P3D
REFRESH-INTERVAL:P3D
CALSCALE:GREGORIAN
BEGIN:VEVENT
DTSTART:20260423T190000Z
DTEND:20260423T200000Z
X-MICROSOFT-CDO-ALLDAYEVENT:FALSE
SUMMARY:Fraud Prevention Forum
DESCRIPTION:Fraud Prevention Forum Presented by Austin Bank
X-ALT-DESC;FMTTYPE=text/html:Fraud Prevention Forum Presented by Austin Bank
LOCATION:Conservatory @ Champion Forest 8215 Cypresswood Dr Spring\, TX 77379
UID:e.129.36119
SEQUENCE:3
DTSTAMP:20260422T200037Z
URL:https://members.houstonnwchamber.org/events/details/fraud-prevention-forum-04-23-2026-36119
END:VEVENT

END:VCALENDAR
