BEGIN:VCALENDAR
VERSION:2.0
PRODID:-//ChamberMaster//Event Calendar 2.0//EN
METHOD:PUBLISH
X-PUBLISHED-TTL:P3D
REFRESH-INTERVAL:P3D
CALSCALE:GREGORIAN
BEGIN:VEVENT
DTSTART:20260519T230000Z
DTEND:20260520T020000Z
X-MICROSOFT-CDO-ALLDAYEVENT:FALSE
SUMMARY:Customer Service Mastery Seminar & Signing
DESCRIPTION:Join us for an engaging and high-impact professional development experience at Barnes & Noble The Woodlands on Tuesday\, May 19 at 6:00 PM. Local author\, communications strategist\, and business leader Melissa Sipes will lead a dynamic 60-minute Customer Service Mastery training designed to help businesses attract\, retain\, and build lasting relationships with their customers. This interactive session will provide practical strategies that professionals and business owners can immediately implement to strengthen customer experience\, increase loyalty\, and drive long-term growth. The evening will also include a live Q&A session followed by a book signing of Customer Service Mastery: The Workbook for Career Growth & Service Excellence. Reserve your ticket today and invest in elevating your customer experience.
X-ALT-DESC;FMTTYPE=text/html:Join us for an engaging and high-impact professional development experience at Barnes &amp\; Noble The Woodlands on Tuesday\, May 19 at 6:00 PM. Local author\, communications strategist\, and business leader Melissa Sipes will lead a dynamic 60-minute Customer Service Mastery training designed to help businesses attract\, retain\, and build lasting relationships with their customers. This interactive session will provide practical strategies that professionals and business owners can immediately implement to strengthen customer experience\, increase loyalty\, and drive long-term growth. The evening will also include a live Q&amp\;A session followed by a book signing of Customer Service Mastery: The Workbook for Career Growth &amp\; Service Excellence. Reserve your ticket today and invest in elevating your customer experience.
LOCATION:The Woodlands Woodlands Mall 1201 Lake Woodlands Dr. #3008 The Woodlands\, TX 77381
UID:e.129.36122
SEQUENCE:3
DTSTAMP:20260425T010602Z
URL:https://members.houstonnwchamber.org/events/details/customer-service-mastery-seminar-signing-36122
END:VEVENT

END:VCALENDAR
