BEGIN:VCALENDAR
VERSION:2.0
PRODID:-//ChamberMaster//Event Calendar 2.0//EN
METHOD:PUBLISH
X-PUBLISHED-TTL:P3D
REFRESH-INTERVAL:P3D
CALSCALE:GREGORIAN
BEGIN:VEVENT
DTSTART:20260531T003000Z
DTEND:20260531T020000Z
X-MICROSOFT-CDO-ALLDAYEVENT:FALSE
SUMMARY:Big Bad Voodoo Daddy
DESCRIPTION:Together for over 32 years\, Big Bad Voodoo Daddy   famously named after an autograph by blues legend Albert Collins   has appeared in concert venues across the world\, had their music appear in hundreds of movies and television shows. BBVD continues its decades long mission to celebrate and revitalize jazz and swing music and bring joy to audiences around the world.
X-ALT-DESC;FMTTYPE=text/html:Together for over 32 years\, Big Bad Voodoo Daddy &mdash\; famously named after an autograph by blues legend Albert Collins &mdash\; has appeared in concert venues across the world\, had their music appear in hundreds of movies and television shows. BBVD continues its decades long mission to celebrate and revitalize jazz and swing music and bring joy to audiences around the world.
LOCATION:The Centrum\, 6823 Cypresswood Dr.\, Spring Texas 77379
UID:e.129.36118
SEQUENCE:3
DTSTAMP:20260424T230613Z
URL:https://members.houstonnwchamber.org/events/details/big-bad-voodoo-daddy-36118
END:VEVENT

END:VCALENDAR
