BEGIN:VCALENDAR
VERSION:2.0
PRODID:-//ChamberMaster//Event Calendar 2.0//EN
METHOD:PUBLISH
X-PUBLISHED-TTL:P3D
REFRESH-INTERVAL:P3D
CALSCALE:GREGORIAN
BEGIN:VEVENT
DTSTART:20260512T190000Z
DTEND:20260512T210000Z
X-MICROSOFT-CDO-ALLDAYEVENT:FALSE
SUMMARY:Menil Duo
DESCRIPTION:The Menil Duo\, consisting of pianist Jonathan Mak and cellist David Dietz\, has performed extensively across the USA and Canada. The duo was formed in Houston\, Texas and is named after the Menil Collection\, an art museum and neighborhood attraction in the heart of Houston. The duo and museum share the same mission: to attract\, educate\, and inspire diverse audiences through art.
X-ALT-DESC;FMTTYPE=text/html:The Menil Duo\, consisting of pianist Jonathan Mak and cellist David Dietz\, has performed extensively across the USA and Canada. The duo was formed in Houston\, Texas and is named after the Menil Collection\, an art museum and neighborhood attraction in the heart of Houston. The duo and museum share the same mission: to attract\, educate\, and inspire diverse audiences through art.
LOCATION:The Centrum\, 6823 Cypresswood Dr.\, Spring Texas 77379
UID:e.129.36117
SEQUENCE:3
DTSTAMP:20260424T091150Z
URL:http://members.houstonnwchamber.org/events/details/menil-duo-36117
END:VEVENT

END:VCALENDAR
