BEGIN:VCALENDAR
VERSION:2.0
PRODID:-//ChamberMaster//Event Calendar 2.0//EN
METHOD:PUBLISH
X-PUBLISHED-TTL:P3D
REFRESH-INTERVAL:P3D
CALSCALE:GREGORIAN
BEGIN:VEVENT
DTSTART:20260515T163000Z
DTEND:20260515T180000Z
X-MICROSOFT-CDO-ALLDAYEVENT:FALSE
SUMMARY:Bank OZK- Cypress Creek Pkwy Client Appreciation Day
DESCRIPTION:Please join us on May 15\, 2026\, at the Bank OZK Houston- Cypress Creek Pkwy location from 11:30-1pm as we show appreciation to our clients and the community.
X-ALT-DESC;FMTTYPE=text/html:<span style="background-color:rgb(255\, 255\, 255)\; color:rgba(0\, 0\, 0\, 0.9)\; font-family:system-ui\,-apple-system\,blinkmacsystemfont\,segoe ui\,roboto\,ubuntu\,oxygen\,cantarell\,fira sans\,droid sans\,helvetica neue\,arial\,sans-serif\,apple color emoji\,segoe ui emoji\,segoe ui symbol\; font-size:14px">Please join us on May 15\, 2026\, at the Bank OZK Houston- Cypress Creek Pkwy location from 11:30-1pm as we show appreciation to our clients and the community.</span>
LOCATION:
UID:e.129.36121
SEQUENCE:3
DTSTAMP:20260424T182612Z
URL:http://members.houstonnwchamber.org/events/details/bank-ozk-cypress-creek-pkwy-client-appreciation-day-36121
END:VEVENT

END:VCALENDAR
